BEGIN:VCALENDAR
VERSION:2.0
PRODID:-//Spelthorne Business Forum - ECPv6.15.16//NONSGML v1.0//EN
CALSCALE:GREGORIAN
METHOD:PUBLISH
X-WR-CALNAME:Spelthorne Business Forum
X-ORIGINAL-URL:https://sbf.biz
X-WR-CALDESC:Events for Spelthorne Business Forum
REFRESH-INTERVAL;VALUE=DURATION:PT1H
X-Robots-Tag:noindex
X-PUBLISHED-TTL:PT1H
BEGIN:VTIMEZONE
TZID:Europe/London
BEGIN:DAYLIGHT
TZOFFSETFROM:+0000
TZOFFSETTO:+0100
TZNAME:BST
DTSTART:20240331T010000
END:DAYLIGHT
BEGIN:STANDARD
TZOFFSETFROM:+0100
TZOFFSETTO:+0000
TZNAME:GMT
DTSTART:20241027T010000
END:STANDARD
BEGIN:DAYLIGHT
TZOFFSETFROM:+0000
TZOFFSETTO:+0100
TZNAME:BST
DTSTART:20250330T010000
END:DAYLIGHT
BEGIN:STANDARD
TZOFFSETFROM:+0100
TZOFFSETTO:+0000
TZNAME:GMT
DTSTART:20251026T010000
END:STANDARD
BEGIN:DAYLIGHT
TZOFFSETFROM:+0000
TZOFFSETTO:+0100
TZNAME:BST
DTSTART:20260329T010000
END:DAYLIGHT
BEGIN:STANDARD
TZOFFSETFROM:+0100
TZOFFSETTO:+0000
TZNAME:GMT
DTSTART:20261025T010000
END:STANDARD
END:VTIMEZONE
BEGIN:VEVENT
DTSTART;TZID=Europe/London:20251103T090000
DTEND;TZID=Europe/London:20251103T180000
DTSTAMP:20260425T051938
CREATED:20251023T110029Z
LAST-MODIFIED:20251023T110032Z
UID:14786-1762160400-1762192800@sbf.biz
SUMMARY:International Trade Week 2025 – Unlock global opportunities for your business
DESCRIPTION:The Department for Business and Trade is hosting this year’s International Trade Week from 3rd to 7th November – a fantastic opportunity for UK businesses looking to grow beyond borders. \n\n\n\nThroughout the week\, you can join a packed programme of free online and in-person events designed to help businesses that currently trade internationally or are thinking about taking the first step. \n\n\n\nExplore new markets\, connect with trade experts\, and gain practical insights to scale your business globally. \n\n\n\nJoin the fifth edition of International Trade Week (ITW) – five days of free online and in-person events designed to help UK businesses grow through exporting. \n\n\n\nLed by the Department for Business and Trade (DBT) and sponsored by Santander UK\, in partnership with industry\, ITW brings together industry experts\, practical insights\, and real opportunities for businesses of all sizes and sectors. \n\n\n\nExplore the ITW Events Programme and Sign Up Today\n\n\n\nFrom expert-led webinars to interactive workshops\, there’s a mix of free in-person and online events tailored to support your business growth and exporting journey. Discover new opportunities and practical insights\, all designed to help you take the next step. \n\n\n\nSign up here \n\n\n\nWhether you’re new to exporting or ready to expand globally\, ITW offers: \n\n\n\n\nExpert-led webinars and workshops\n\n\n\nInsights into global markets and trade deals\n\n\n\nSupport from DBT and partners\n\n\n\nNetworking with peers and trade professionals\n\n\n\n\nIf you have any questions about ITW\, please email itwsupport@businessandtrade.gov.uk. If you’d like to receive updates about ITW events\, please fill out this short formopens assets-gbr.mkt.dynamics.com in a new tab. \n\n\n\nSantander UK\n\n\n\nAs one of the largest global banks\, Santander’s network of specialists is on hand to help you navigate international markets. With tailored financial and non-financial support and dedicated relationship directors\, Santander can help you achieve your business ambitions. Find out more at: santander.co.uk/corporateopens eur02.safelinks.protection.outlook.com in a new tab.
URL:https://sbf.biz/event/international-trade-week-2025-unlock-global-opportunities-for-your-business/
CATEGORIES:Business Surrey,Export & International Trade
ATTACH;FMTTYPE=image/jpeg:https://sbf.biz/wp-content/uploads/2025/10/International-trade-week.jpg
END:VEVENT
END:VCALENDAR