BEGIN:VCALENDAR
VERSION:2.0
PRODID:-//Spelthorne Business Forum - ECPv6.15.16//NONSGML v1.0//EN
CALSCALE:GREGORIAN
METHOD:PUBLISH
X-WR-CALNAME:Spelthorne Business Forum
X-ORIGINAL-URL:https://sbf.biz
X-WR-CALDESC:Events for Spelthorne Business Forum
REFRESH-INTERVAL;VALUE=DURATION:PT1H
X-Robots-Tag:noindex
X-PUBLISHED-TTL:PT1H
BEGIN:VTIMEZONE
TZID:Europe/London
BEGIN:DAYLIGHT
TZOFFSETFROM:+0000
TZOFFSETTO:+0100
TZNAME:BST
DTSTART:20240331T010000
END:DAYLIGHT
BEGIN:STANDARD
TZOFFSETFROM:+0100
TZOFFSETTO:+0000
TZNAME:GMT
DTSTART:20241027T010000
END:STANDARD
BEGIN:DAYLIGHT
TZOFFSETFROM:+0000
TZOFFSETTO:+0100
TZNAME:BST
DTSTART:20250330T010000
END:DAYLIGHT
BEGIN:STANDARD
TZOFFSETFROM:+0100
TZOFFSETTO:+0000
TZNAME:GMT
DTSTART:20251026T010000
END:STANDARD
BEGIN:DAYLIGHT
TZOFFSETFROM:+0000
TZOFFSETTO:+0100
TZNAME:BST
DTSTART:20260329T010000
END:DAYLIGHT
BEGIN:STANDARD
TZOFFSETFROM:+0100
TZOFFSETTO:+0000
TZNAME:GMT
DTSTART:20261025T010000
END:STANDARD
END:VTIMEZONE
BEGIN:VEVENT
DTSTART;TZID=Europe/London:20251119T120000
DTEND;TZID=Europe/London:20251119T130000
DTSTAMP:20260425T132919
CREATED:20251003T082319Z
LAST-MODIFIED:20251003T082932Z
UID:14627-1763553600-1763557200@sbf.biz
SUMMARY:Cyber Security For Business: Threats you must address in 2025
DESCRIPTION:Cybersecurity is a shared responsibility. In today’s digital age\, inadequate defences pose existential risks to businesses. Join us for an engaging and informative cybersecurity presentation from South East Cyber\, a regional Police Cyber Crime Unit. Whether you’re an employee\, manager\, or senior leader\, this session is packed with actionable advice and free resources to help safeguard your business. \n\n\n\nTo participate\, please book your ticket and then either join via the Eventbrite app or use this link: Click Here \n\n\n\nWhat you need to know\, without the technical jargon. \n\n\n\nKey Topics Include: \n\n\n\nThreat Overview: Learn about the latest cybersecurity threats targeting small and midsize businesses\, understand how cybercriminals operate\, and identify common threat vectors used in attacks. \n\n\n\nBest Practices: Discover industry-leading strategies to fortify your organisation’s cybersecurity defences\, including tips for securing networks\, data\, and endpoints. \n\n\n\nBuilding Trust: Understand the importance of demonstrating your commitment to data security. Learn about accreditations\, such as Cyber Essentials\, that can showcase your business’s cyber resilience to customers and clients. \n\n\n\nPractical Guidance: Receive actionable advice on implementing robust cybersecurity policies and procedures tailored to the needs and resources of small and midsize businesses\, with a strong emphasis on phishing and spear-phishing awareness. \n\n\n\nInteractive Discussion: Engage in a dynamic discussion and Q&A session with the host. \n\n\n\nFully Funded Resources at no cost to you: Access a range of educational and technical resources at no cost\, designed to help you operate your business with greater safety and confidence. \n\n\n\nTo join\, please book your ticket (so that we know how many people are coming!) and then either join via the Eventbrite app or use this link: Click Here
URL:https://sbf.biz/event/cyber-security-for-business-threats-you-must-address-in-2025/
LOCATION:Surrey
CATEGORIES:Technology
ATTACH;FMTTYPE=image/jpeg:https://sbf.biz/wp-content/uploads/2025/10/cyber-security.jpg
END:VEVENT
END:VCALENDAR