BEGIN:VCALENDAR
VERSION:2.0
PRODID:-//Spelthorne Business Forum - ECPv6.15.16//NONSGML v1.0//EN
CALSCALE:GREGORIAN
METHOD:PUBLISH
X-ORIGINAL-URL:https://sbf.biz
X-WR-CALDESC:Events for Spelthorne Business Forum
REFRESH-INTERVAL;VALUE=DURATION:PT1H
X-Robots-Tag:noindex
X-PUBLISHED-TTL:PT1H
BEGIN:VTIMEZONE
TZID:Europe/London
BEGIN:DAYLIGHT
TZOFFSETFROM:+0000
TZOFFSETTO:+0100
TZNAME:BST
DTSTART:20240331T010000
END:DAYLIGHT
BEGIN:STANDARD
TZOFFSETFROM:+0100
TZOFFSETTO:+0000
TZNAME:GMT
DTSTART:20241027T010000
END:STANDARD
BEGIN:DAYLIGHT
TZOFFSETFROM:+0000
TZOFFSETTO:+0100
TZNAME:BST
DTSTART:20250330T010000
END:DAYLIGHT
BEGIN:STANDARD
TZOFFSETFROM:+0100
TZOFFSETTO:+0000
TZNAME:GMT
DTSTART:20251026T010000
END:STANDARD
BEGIN:DAYLIGHT
TZOFFSETFROM:+0000
TZOFFSETTO:+0100
TZNAME:BST
DTSTART:20260329T010000
END:DAYLIGHT
BEGIN:STANDARD
TZOFFSETFROM:+0100
TZOFFSETTO:+0000
TZNAME:GMT
DTSTART:20261025T010000
END:STANDARD
BEGIN:DAYLIGHT
TZOFFSETFROM:+0000
TZOFFSETTO:+0100
TZNAME:BST
DTSTART:20270328T010000
END:DAYLIGHT
BEGIN:STANDARD
TZOFFSETFROM:+0100
TZOFFSETTO:+0000
TZNAME:GMT
DTSTART:20271031T010000
END:STANDARD
END:VTIMEZONE
BEGIN:VEVENT
DTSTART;TZID=Europe/London:20260325T213000
DTEND;TZID=Europe/London:20260326T123000
DTSTAMP:20260421T094131
CREATED:20260304T114003Z
LAST-MODIFIED:20260304T114007Z
UID:15798-1774474200-1774528200@sbf.biz
SUMMARY:Cyber Resilience & AI Compliance Training for SMEs
DESCRIPTION:Cyber Resilience & AI Compliance Training for SMEsProtecting Your Business in a Changing Digital LandscapeIn today’s unpredictable economic and political environment\, safeguarding your business is no longer optional\, it’s essential. \n\n\n\nCyber threats are on the rise\, AI regulations are evolving rapidly\, and small to medium-sized enterprises (SMEs) are under increasing pressure to remain secure\, compliant\, and competitive.This interactive training workshop\, hosted by Surrey Chambers of Commerce\, is designed to equip members with the clarity\, tools\, and confidence needed to face today’s digital risks head-on.With your trainer Linda Bazant LLB (Hons)Why Attend? \n\n\n\n\nRising Cyber Threats: SMEs are increasingly targeted as part of wider supply chain attacks.\n\n\n\nTight Budgets\, Higher Stakes: Prevention is now more cost-effective than dealing with the aftermath of a breach.\n\n\n\nEvolving Regulations: UK and EU regulatory changes demand compliance with new AI and data security rules in 2025.\n\n\n\nMarket Expectations: Clients\, partners\, and insurers expect robust cyber resilience and responsible AI practices.\n\n\n\nReputation at Risk: A single incident can damage trust\, disrupt operations\, and lead to legal or financial fallout.\n\n\n\n\nWhat You’ll Gain\n\n\n\n\nA clear\, jargon-free understanding of today’s most pressing cyber threats for SMEs.\n\n\n\nPractical\, low-cost strategies to boost your digital defences immediately.\n\n\n\nA breakdown of 2025 AI compliance requirements in the UK and EU — and how they apply to your business.\n\n\n\nInsightful real-world case studies of common security failures (and how to avoid them).\n\n\n\nAccess to tools\, checklists\, and templates to help you assess risk\, evaluate AI systems\, and build a 30-day action plan.\n\n\n\n\nWho Should Attend?\n\n\n\nThis session is ideal for: \n\n\n\n\nBusiness Owners & Directors\n\n\n\nOperations & Compliance Managers\n\n\n\nHR Professionals\n\n\n\nIT Leads & System Administrators\n\n\n\nAnyone responsible for handling data\, digital systems\, or AI-powered tools.\n\n\n\n\nStay ahead of the curve. Protect your business\, build trust with stakeholders\, and prepare for the digital regulations of tomorrow — today.
URL:https://sbf.biz/event/cyber-resilience-ai-compliance-training-for-smes/
LOCATION:Dukes Court\, Block E\, Duke Street\, Woking\, Surrey\, GU21 5BH
CATEGORIES:Technology
ATTACH;FMTTYPE=image/png:https://sbf.biz/wp-content/uploads/2026/03/AI-training.png
END:VEVENT
BEGIN:VEVENT
DTSTART;TZID=Europe/London:20251119T120000
DTEND;TZID=Europe/London:20251119T130000
DTSTAMP:20260421T094131
CREATED:20251003T082319Z
LAST-MODIFIED:20251003T082932Z
UID:14627-1763553600-1763557200@sbf.biz
SUMMARY:Cyber Security For Business: Threats you must address in 2025
DESCRIPTION:Cybersecurity is a shared responsibility. In today’s digital age\, inadequate defences pose existential risks to businesses. Join us for an engaging and informative cybersecurity presentation from South East Cyber\, a regional Police Cyber Crime Unit. Whether you’re an employee\, manager\, or senior leader\, this session is packed with actionable advice and free resources to help safeguard your business. \n\n\n\nTo participate\, please book your ticket and then either join via the Eventbrite app or use this link: Click Here \n\n\n\nWhat you need to know\, without the technical jargon. \n\n\n\nKey Topics Include: \n\n\n\nThreat Overview: Learn about the latest cybersecurity threats targeting small and midsize businesses\, understand how cybercriminals operate\, and identify common threat vectors used in attacks. \n\n\n\nBest Practices: Discover industry-leading strategies to fortify your organisation’s cybersecurity defences\, including tips for securing networks\, data\, and endpoints. \n\n\n\nBuilding Trust: Understand the importance of demonstrating your commitment to data security. Learn about accreditations\, such as Cyber Essentials\, that can showcase your business’s cyber resilience to customers and clients. \n\n\n\nPractical Guidance: Receive actionable advice on implementing robust cybersecurity policies and procedures tailored to the needs and resources of small and midsize businesses\, with a strong emphasis on phishing and spear-phishing awareness. \n\n\n\nInteractive Discussion: Engage in a dynamic discussion and Q&A session with the host. \n\n\n\nFully Funded Resources at no cost to you: Access a range of educational and technical resources at no cost\, designed to help you operate your business with greater safety and confidence. \n\n\n\nTo join\, please book your ticket (so that we know how many people are coming!) and then either join via the Eventbrite app or use this link: Click Here
URL:https://sbf.biz/event/cyber-security-for-business-threats-you-must-address-in-2025/
LOCATION:Surrey
CATEGORIES:Technology
ATTACH;FMTTYPE=image/jpeg:https://sbf.biz/wp-content/uploads/2025/10/cyber-security.jpg
END:VEVENT
BEGIN:VEVENT
DTSTART;TZID=Europe/London:20251016T120000
DTEND;TZID=Europe/London:20251016T140000
DTSTAMP:20260421T094131
CREATED:20250919T103848Z
LAST-MODIFIED:20250919T103851Z
UID:14553-1760616000-1760623200@sbf.biz
SUMMARY:Cyber Security Awareness
DESCRIPTION:Join us for an action packed and informative cybersecurity presentation from the regional Police Cyber Crime Unit\, followed by networking. \n\n\n\n \n\n\n\nThe UK economy loses £27B a year due to Cyber Crime. Cybersecurity is a shared responsibility. In today’s digital age\, inadequate defenses pose existential risks to businesses. Join us for an action packed and informative cybersecurity presentation from South East Cyber\, a regional Police Cyber Crime Unit. Whether you’re a local business\, charity or work in the voluntary sector\, this session is packed with actionable advice and funded resources to help safeguard your business. \n\n\n\nKey Topics Include: \n\n\n\nThreat Overview: Learn about the latest cybersecurity threats targeting small and midsize businesses\, understand how cybercriminals operate\, and identify common threat vectors used in attacks. \n\n\n\nBest Practices: Discover industry-leading strategies to fortify your organization’s cybersecurity defenses\, including tips for securing networks\, data\, and endpoints. \n\n\n\nBuilding Trust: Understand the importance of demonstrating your commitment to data security. Learn about accreditations\, such as Cyber Essentials\, that can showcase your business’s cyber resilience to customers and clients. \n\n\n\nPractical Guidance: Receive actionable advice on implementing robust cybersecurity policies and procedures tailored to the needs and resources of small and midsize businesses\, with a strong emphasis on phishing and spear-phishing awareness. \n\n\n\nInteractive Discussion: Engage in a dynamic discussion and Q&A session with the host. \n\n\n\nFully Funded Resources at no cost to you: Access a range of educational and technical resources at no cost\, designed to help you operate your business with greater safety and confidence.
URL:https://sbf.biz/event/cyber-security-awareness/
LOCATION:Surrey
CATEGORIES:Technology,Workshops - Non SBF
ATTACH;FMTTYPE=image/jpeg:https://sbf.biz/wp-content/uploads/2025/09/cyber-secuty-awareness.jpg
END:VEVENT
BEGIN:VEVENT
DTSTART;TZID=Europe/London:20251001T123000
DTEND;TZID=Europe/London:20251001T130000
DTSTAMP:20260421T094131
CREATED:20250925T104823Z
LAST-MODIFIED:20250925T104825Z
UID:14587-1759321800-1759323600@sbf.biz
SUMMARY:How the new Microsoft 365 Copilot tools can power up your productivity
DESCRIPTION:Microsoft 365 Copilot is evolving fast.  Stay up to date the latest features and find out how they can save you hours every week! \n\n\n\nWe cover how the incredibly powerful Analyst\, Researcher and Creative tools can be a gamechanger for any business struggling with workload and how you can give your team new capability and save time and money.  \n\n\n\nWhy you should attend \n\n\n\nLearn how Researcher can help you prepare for client meetings\, staff reviews and project updates. See how Analyst can give you powerful insights into your data without the need for complex excel skills. Learn how to use the creative tools to generate professional branded content to promote your business in minutes. \n\n\n\nWhat you get out of it \n\n\n\nYou will clearly see how AI can be practically applied in your business. Learn how to get a better return on investment on your Microsoft 365 Copilot licenses. Get an update on Microsoft’s AI roadmap. \n\n\n\nAbout Microsoft 365 Copilot \n\n\n\nBasic Copilot is included in Microsoft 365 by default providing a general use AI chatbot with security built in. Microsoft 365 Copilot is separate from the version of Copilot included by default and is integrated into Word\, Excel\, PowerPoint\, Teams and other Microsoft 365 apps. It is compatible with Microsoft 365 Business and Enterprise plans and costs circa £300 per person per annum. Find out more about Microsoft 365 Copilot by clicking here.
URL:https://sbf.biz/event/how-the-new-microsoft-365-copilot-tools-can-power-up-your-productivity/
LOCATION:Surrey
CATEGORIES:All Events,Technology
ATTACH;FMTTYPE=image/jpeg:https://sbf.biz/wp-content/uploads/2025/09/copilot.jpg
END:VEVENT
BEGIN:VEVENT
DTSTART;TZID=Europe/London:20250925T123000
DTEND;TZID=Europe/London:20250925T130000
DTSTAMP:20260421T094131
CREATED:20250912T105748Z
LAST-MODIFIED:20250912T105751Z
UID:14512-1758803400-1758805200@sbf.biz
SUMMARY:Made Smarter South East - free business briefing webinar
DESCRIPTION:Find out how Made Smarter can help your manufacturing business with funding\, free expert advice and training \n\n\n\nJoin us for an enlightening online event where we’ll be discussing the Made Smarter programme in the South East.  \n\n\n\nOur speakers will take you through the support and funding that’s available to manufacturers\, makers and creators\, to help you boost your business productivity\, efficiency and growth through technology adoption.  \n\n\n\nDon’t miss out on this opportunity to connect with like-minded professionals and take your business to the next level.  \n\n\n\nSpaces are limited\, so register now to secure your spot! 
URL:https://sbf.biz/event/made-smarter-south-east-free-business-briefing-webinar/
LOCATION:Surrey
CATEGORIES:Start-up,Technology
ATTACH;FMTTYPE=image/jpeg:https://sbf.biz/wp-content/uploads/2025/09/Made-smartr.jpg
END:VEVENT
BEGIN:VEVENT
DTSTART;TZID=Europe/London:20250909T120000
DTEND;TZID=Europe/London:20250909T133000
DTSTAMP:20260421T094131
CREATED:20250905T094137Z
LAST-MODIFIED:20250905T094142Z
UID:14449-1757419200-1757424600@sbf.biz
SUMMARY:Windows 11 Update: Everything You Need to Know
DESCRIPTION:With Windows 10 support ending\, it’s crucial that businesses prepare for what’s next. Join FluidOne for a practical\, insight-packed webinar that will walk you through everything you need to know about the Windows 11 update and how to make a smooth\, secure\, and future-ready transition. \n\n\n\nThis session is ideal for IT managers\, business owners\, and anyone responsible for technology decisions within their organisation. \n\n\n\nWe’ll cover:\n\n\n\n\nEnd of Support for Windows 10 – What it really means and the risks of doing nothing\n\n\n\nYour Options – From extended support to full migration\n\n\n\nHardware Compatibility – Why some devices don’t support Windows 11 and what your alternatives are\n\n\n\nNext-Gen Devices – Is it time to invest in AI-enabled PCs with NPUs (Neural Processing Units)?\n\n\n\n Migration Best Practices – How to upgrade efficiently\, and why using a service provider makes a difference\n\n\n\nApplication Compatibility – What to do if your key software doesn’t support Windows 11\n\n\n\nMicrosoft Business Premium – Why it makes sense to upgrade your licensing alongside Windows 11\n\n\n\nEntra ID & Conditional Access – Strengthen your security posture and reduce helpdesk load with modern identity tools\n\n\n\n\nBy the end of the webinar\, you’ll have a clear understanding of your upgrade path\, how to avoid common pitfalls\, and how to take full advantage of the new features and security benefits Windows 11 and Microsoft Business Premium offer. Follow this link to register: https://info.fluidone.com/lp/windows-10-end-of-life-webinar
URL:https://sbf.biz/event/windows-11-update-everything-you-need-to-know/
LOCATION:Surrey
CATEGORIES:Technology
ATTACH;FMTTYPE=image/jpeg:https://sbf.biz/wp-content/uploads/2025/09/Windows-update.jpg
END:VEVENT
BEGIN:VEVENT
DTSTART;TZID=Europe/London:20250314T080000
DTEND;TZID=Europe/London:20250314T100000
DTSTAMP:20260421T094131
CREATED:20250228T102525Z
LAST-MODIFIED:20250228T102603Z
UID:13524-1741939200-1741946400@sbf.biz
SUMMARY:Engineering Business Breakfast
DESCRIPTION:Join us for an Engineering Breakfast at the BCOT Restaurant on March 14th\, from 8 AM to 10 AM. This is a great opportunity to network with fellow professionals\, industry experts\, and BCOT faculty\, including our Facility Head\, Shane Mumford. \n\n\n\nWe’ll discuss key industry trends\, evolving engineering standards\, and pathways for staff and apprentices into our L4 HNC Apprenticeship. Your insights are invaluable in shaping BCOT’s engineering programmes\, ensuring they align with industry needs. \n\n\n\nEnjoy a complimentary breakfast as we collaborate on the future of engineering education.
URL:https://sbf.biz/event/engineering-business-breakfast/
LOCATION:BCoT – Basingstoke College Of Technology\, Worting Road\, Basingstoke\, RG21 8TN
CATEGORIES:Technology
ATTACH;FMTTYPE=image/jpeg:https://sbf.biz/wp-content/uploads/2025/02/Enginerring-breakfast-1.jpg
END:VEVENT
END:VCALENDAR