BEGIN:VCALENDAR
VERSION:2.0
PRODID:-//Spelthorne Business Forum - ECPv6.15.16//NONSGML v1.0//EN
CALSCALE:GREGORIAN
METHOD:PUBLISH
X-WR-CALNAME:Spelthorne Business Forum
X-ORIGINAL-URL:https://sbf.biz
X-WR-CALDESC:Events for Spelthorne Business Forum
REFRESH-INTERVAL;VALUE=DURATION:PT1H
X-Robots-Tag:noindex
X-PUBLISHED-TTL:PT1H
BEGIN:VTIMEZONE
TZID:Europe/London
BEGIN:DAYLIGHT
TZOFFSETFROM:+0000
TZOFFSETTO:+0100
TZNAME:BST
DTSTART:20240331T010000
END:DAYLIGHT
BEGIN:STANDARD
TZOFFSETFROM:+0100
TZOFFSETTO:+0000
TZNAME:GMT
DTSTART:20241027T010000
END:STANDARD
BEGIN:DAYLIGHT
TZOFFSETFROM:+0000
TZOFFSETTO:+0100
TZNAME:BST
DTSTART:20250330T010000
END:DAYLIGHT
BEGIN:STANDARD
TZOFFSETFROM:+0100
TZOFFSETTO:+0000
TZNAME:GMT
DTSTART:20251026T010000
END:STANDARD
BEGIN:DAYLIGHT
TZOFFSETFROM:+0000
TZOFFSETTO:+0100
TZNAME:BST
DTSTART:20260329T010000
END:DAYLIGHT
BEGIN:STANDARD
TZOFFSETFROM:+0100
TZOFFSETTO:+0000
TZNAME:GMT
DTSTART:20261025T010000
END:STANDARD
END:VTIMEZONE
BEGIN:VEVENT
DTSTART;TZID=Europe/London:20250828T113000
DTEND;TZID=Europe/London:20250828T123000
DTSTAMP:20260425T121744
CREATED:20250731T222044Z
LAST-MODIFIED:20250813T213910Z
UID:14261-1756380600-1756384200@sbf.biz
SUMMARY:Meet the Regulator – Trading Standards Advice for Surrey Businesses
DESCRIPTION:This free online session\, hosted by Business Surrey in partnership with Surrey Trading Standards\, is designed to help local businesses understand their legal responsibilities\, avoid common compliance pitfalls\, and access expert support. \n\n\n\nLed by Phil LeShirley\, Trading Standards Specialist\, the session will cover key areas such as product safety\, consumer rights\, and how to engage with regulators early to protect your business and build customer trust. \n\n\n\nKey Topics Covered: \n\n\n\n\nWhat Trading Standards does (and doesn’t do)\n\n\n\nProduct safety\, food standards\, and fair trading\n\n\n\nConsumer rights and refund rules\n\n\n\nThe EASY 123 scheme for early-stage businesses\n\n\n\nHow to engage with regulators before problems arise
URL:https://sbf.biz/event/meet-the-regulator-trading-standards-advice-for-surrey-businesses/
CATEGORIES:Surrey Business event
ATTACH;FMTTYPE=image/jpeg:https://sbf.biz/wp-content/uploads/2025/07/trading-standards1.jpg
END:VEVENT
END:VCALENDAR