BEGIN:VCALENDAR
VERSION:2.0
PRODID:-//Spelthorne Business Forum - ECPv6.15.16//NONSGML v1.0//EN
CALSCALE:GREGORIAN
METHOD:PUBLISH
X-WR-CALNAME:Spelthorne Business Forum
X-ORIGINAL-URL:https://sbf.biz
X-WR-CALDESC:Events for Spelthorne Business Forum
REFRESH-INTERVAL;VALUE=DURATION:PT1H
X-Robots-Tag:noindex
X-PUBLISHED-TTL:PT1H
BEGIN:VTIMEZONE
TZID:Europe/London
BEGIN:DAYLIGHT
TZOFFSETFROM:+0000
TZOFFSETTO:+0100
TZNAME:BST
DTSTART:20240331T010000
END:DAYLIGHT
BEGIN:STANDARD
TZOFFSETFROM:+0100
TZOFFSETTO:+0000
TZNAME:GMT
DTSTART:20241027T010000
END:STANDARD
BEGIN:DAYLIGHT
TZOFFSETFROM:+0000
TZOFFSETTO:+0100
TZNAME:BST
DTSTART:20250330T010000
END:DAYLIGHT
BEGIN:STANDARD
TZOFFSETFROM:+0100
TZOFFSETTO:+0000
TZNAME:GMT
DTSTART:20251026T010000
END:STANDARD
BEGIN:DAYLIGHT
TZOFFSETFROM:+0000
TZOFFSETTO:+0100
TZNAME:BST
DTSTART:20260329T010000
END:DAYLIGHT
BEGIN:STANDARD
TZOFFSETFROM:+0100
TZOFFSETTO:+0000
TZNAME:GMT
DTSTART:20261025T010000
END:STANDARD
END:VTIMEZONE
BEGIN:VEVENT
DTSTART;TZID=Europe/London:20250403T090000
DTEND;TZID=Europe/London:20250403T113000
DTSTAMP:20260425T193450
CREATED:20250321T144233Z
LAST-MODIFIED:20250321T144344Z
UID:13614-1743670800-1743679800@sbf.biz
SUMMARY:Accelerate Growth and Win More Customers
DESCRIPTION:This interactive presentation and workshop hosted in partnership with Waverley and Guildford Borough Councils\, is designed to equip small and medium-sized enterprises in Surrey with effective strategies to boost long-lasting growth. Participants will gain practical insights and hands-on experience to stimulate their customer pipeline and drive business success. \n\n\n\nLearn about the following aspects: \n\n\n\n– Understanding your market \n\n\n\n– Crafting a compelling value proposition \n\n\n\n– Building strong customer relationships \n\n\n\n– Closing techniques and negotiation skills \n\n\n\n \n\n\n\n \n\n\n\n\n\n \n\n\n\nLed by Roya Croudace\, a skilled Commercial Director\, Founder\, and Non-Executive Director with over 25 years of expertise in driving business growth\, especially for SMEs. With experience spanning over 400 scale-up businesses in Surrey and FTSE 100 companies\, Roya offers deep insights into crafting impactful growth plans\, achieving measurable results\, and building sustainable foundations for lasting success. \n\n\n\nAs the Founder of Alloy Business\, a specialist advisor for Business Surrey\, and Sales and Business Development Ambassador for the Institute of Directors South Surrey\, Roya has developed a powerful approach to building robust customer pipelines\, strengthening market positioning\, and implementing strategic foundations for sustainable growth. Through her workshops and programs\, she empowers SMEs with practical tools to accelerate revenue\, boost profits\, and attract and retain customers. Her expertise will provide actionable strategies that drive success and foster resilient customer relationships\, ensuring lasting impact for growing businesses.
URL:https://sbf.biz/event/accelerate-growth-and-win-more-customers/
LOCATION:Guildford Pavilion\, The Sports Ground\, Woodbridge Road\,\, Guildford\, GU1 4RP\, United Kingdom
CATEGORIES:Surrey Business event
ATTACH;FMTTYPE=image/jpeg:https://sbf.biz/wp-content/uploads/2025/03/business-surrey-joya.jpg
END:VEVENT
END:VCALENDAR