BEGIN:VCALENDAR
VERSION:2.0
PRODID:-//Spelthorne Business Forum - ECPv6.15.16//NONSGML v1.0//EN
CALSCALE:GREGORIAN
METHOD:PUBLISH
X-ORIGINAL-URL:https://sbf.biz
X-WR-CALDESC:Events for Spelthorne Business Forum
REFRESH-INTERVAL;VALUE=DURATION:PT1H
X-Robots-Tag:noindex
X-PUBLISHED-TTL:PT1H
BEGIN:VTIMEZONE
TZID:Europe/London
BEGIN:DAYLIGHT
TZOFFSETFROM:+0000
TZOFFSETTO:+0100
TZNAME:BST
DTSTART:20240331T010000
END:DAYLIGHT
BEGIN:STANDARD
TZOFFSETFROM:+0100
TZOFFSETTO:+0000
TZNAME:GMT
DTSTART:20241027T010000
END:STANDARD
BEGIN:DAYLIGHT
TZOFFSETFROM:+0000
TZOFFSETTO:+0100
TZNAME:BST
DTSTART:20250330T010000
END:DAYLIGHT
BEGIN:STANDARD
TZOFFSETFROM:+0100
TZOFFSETTO:+0000
TZNAME:GMT
DTSTART:20251026T010000
END:STANDARD
BEGIN:DAYLIGHT
TZOFFSETFROM:+0000
TZOFFSETTO:+0100
TZNAME:BST
DTSTART:20260329T010000
END:DAYLIGHT
BEGIN:STANDARD
TZOFFSETFROM:+0100
TZOFFSETTO:+0000
TZNAME:GMT
DTSTART:20261025T010000
END:STANDARD
END:VTIMEZONE
BEGIN:VEVENT
DTSTART;TZID=Europe/London:20250426T183000
DTEND;TZID=Europe/London:20250427T000000
DTSTAMP:20260425T210212
CREATED:20250116T103948Z
LAST-MODIFIED:20250116T103951Z
UID:13309-1745692200-1745712000@sbf.biz
SUMMARY:Save the Date: Mayor of Spelthorne Banquet
DESCRIPTION:£75 \n\n\n\n\n\n\n\nThe Mayor of Spelthorne\, Cllr Med Buck\, invites you to join him at his banquet at the Holiday Inn. \n\n\n\nTickets include a reception drink\, half a bottle of wine\, casino and entertainment. \n\n\n\nAll proceeds from the night will be donated to the Mayors charities: Ashford and St Peter’s hospital’ charity\, Stanwell food bank\, Manor Meads primary school and Newlife.
URL:https://sbf.biz/event/save-the-date-mayor-of-spelthorne-banquet/
LOCATION:The Holiday Inn Shepperton\, Felix Lane\, Shepperton\, Surrey\, TW17 8NP\, United Kingdom
CATEGORIES:Charity,Mayor's event
ATTACH;FMTTYPE=image/jpeg:https://sbf.biz/wp-content/uploads/2025/01/mayors-event-1-1.jpg
END:VEVENT
END:VCALENDAR