BEGIN:VCALENDAR
VERSION:2.0
PRODID:-//Spelthorne Business Forum - ECPv6.15.16//NONSGML v1.0//EN
CALSCALE:GREGORIAN
METHOD:PUBLISH
X-WR-CALNAME:Spelthorne Business Forum
X-ORIGINAL-URL:https://sbf.biz
X-WR-CALDESC:Events for Spelthorne Business Forum
REFRESH-INTERVAL;VALUE=DURATION:PT1H
X-Robots-Tag:noindex
X-PUBLISHED-TTL:PT1H
BEGIN:VTIMEZONE
TZID:Europe/London
BEGIN:DAYLIGHT
TZOFFSETFROM:+0000
TZOFFSETTO:+0100
TZNAME:BST
DTSTART:20230326T010000
END:DAYLIGHT
BEGIN:STANDARD
TZOFFSETFROM:+0100
TZOFFSETTO:+0000
TZNAME:GMT
DTSTART:20231029T010000
END:STANDARD
BEGIN:DAYLIGHT
TZOFFSETFROM:+0000
TZOFFSETTO:+0100
TZNAME:BST
DTSTART:20240331T010000
END:DAYLIGHT
BEGIN:STANDARD
TZOFFSETFROM:+0100
TZOFFSETTO:+0000
TZNAME:GMT
DTSTART:20241027T010000
END:STANDARD
BEGIN:DAYLIGHT
TZOFFSETFROM:+0000
TZOFFSETTO:+0100
TZNAME:BST
DTSTART:20250330T010000
END:DAYLIGHT
BEGIN:STANDARD
TZOFFSETFROM:+0100
TZOFFSETTO:+0000
TZNAME:GMT
DTSTART:20251026T010000
END:STANDARD
BEGIN:DAYLIGHT
TZOFFSETFROM:+0000
TZOFFSETTO:+0100
TZNAME:BST
DTSTART:20260329T010000
END:DAYLIGHT
BEGIN:STANDARD
TZOFFSETFROM:+0100
TZOFFSETTO:+0000
TZNAME:GMT
DTSTART:20261025T010000
END:STANDARD
END:VTIMEZONE
BEGIN:VEVENT
DTSTART;TZID=Europe/London:20251222T183000
DTEND;TZID=Europe/London:20251222T213000
DTSTAMP:20260421T093842
CREATED:20251117T132541Z
LAST-MODIFIED:20251126T153855Z
UID:14988-1766428200-1766439000@sbf.biz
SUMMARY:🎄 SBF Christmas Social 🎄
DESCRIPTION:Join us for a festive and friendly evening as we celebrate the season together at our annual SBF Christmas Social Networking Event in partnership with the FSB.\n\n\n\n\n\n\n\n\n\n\n\nThis event is the perfect chance to unwind\, make meaningful connections\, and enjoy some well-deserved holiday cheer with fellow local businesses. \n\n\n\nThis year\, we’re thrilled to be hosted by The Magpie Pub in Sunbury — proudly crowned Best Business in Sunbury and Halliford for the second year running! Their wonderful team will be treating us to a delicious festive feast\, along with seasonal drinks to get everyone in the Christmas spirit. \n\n\n\n✨ What to look forward to:• A warm\, welcoming atmosphere• Festive food and drinks• Music to set the seasonal mood• Great company and networking opportunities \n\n\n\n🎁 Don’t miss our charity raffle\, where you can win fantastic prizes while helping support the SBF’s work championing local businesses. \n\n\n\nLet’s come together to celebrate another year of collaboration\, community\, and shared success! \n\n\n\nPrice: £20 — includes a festive meal\, music\, and a welcome drink. \n\n\n\n📧 Reserve your place: members@sbf.biz
URL:https://sbf.biz/event/%f0%9f%8e%84-sbf-christmas-social-%f0%9f%8e%84/
LOCATION:The Magpie\, 64 Thames Street\, Sunbury on Thames\, TW16 6AF
CATEGORIES:All Events,Christmas,Federation Small Businesses,Networking - SBF
ATTACH;FMTTYPE=image/jpeg:https://sbf.biz/wp-content/uploads/2025/11/Christmas-event-banner-25-small.jpg
END:VEVENT
BEGIN:VEVENT
DTSTART;TZID=Europe/London:20241214T171500
DTEND;TZID=Europe/London:20241214T191500
DTSTAMP:20260421T093842
CREATED:20241115T095344Z
LAST-MODIFIED:20241115T095347Z
UID:13079-1734196500-1734203700@sbf.biz
SUMMARY:CHOIRS AT CHRISTMAS
DESCRIPTION:Witness magic this Christmas as The Stewart Academy Choirs come together to sing! From age 7 to 90\, there will be something for everyone. \n\n\n\nThis event brings everyone together at Christmas time. A beautiful repertoire of songs to please all tastes. Please come along and join us in raising awareness and funds for dementia care.  \n\n\n\nAdults and children singing beautiful songs to fill your heart with warmth this Christmas. \n\n\n\nThere will be a card only bar and parking on site.
URL:https://sbf.biz/event/choirs-at-christmas/
LOCATION:Windsor Building Royal Holloway\, Egham Hill\, Egham\, TW20 0EX
CATEGORIES:Charity,Christmas
ATTACH;FMTTYPE=image/jpeg:https://sbf.biz/wp-content/uploads/2024/11/Christmas-choir.jpg
END:VEVENT
END:VCALENDAR