BEGIN:VCALENDAR
VERSION:2.0
PRODID:-//Spelthorne Business Forum - ECPv6.15.16//NONSGML v1.0//EN
CALSCALE:GREGORIAN
METHOD:PUBLISH
X-WR-CALNAME:Spelthorne Business Forum
X-ORIGINAL-URL:https://sbf.biz
X-WR-CALDESC:Events for Spelthorne Business Forum
REFRESH-INTERVAL;VALUE=DURATION:PT1H
X-Robots-Tag:noindex
X-PUBLISHED-TTL:PT1H
BEGIN:VTIMEZONE
TZID:Europe/London
BEGIN:DAYLIGHT
TZOFFSETFROM:+0000
TZOFFSETTO:+0100
TZNAME:BST
DTSTART:20240331T010000
END:DAYLIGHT
BEGIN:STANDARD
TZOFFSETFROM:+0100
TZOFFSETTO:+0000
TZNAME:GMT
DTSTART:20241027T010000
END:STANDARD
BEGIN:DAYLIGHT
TZOFFSETFROM:+0000
TZOFFSETTO:+0100
TZNAME:BST
DTSTART:20250330T010000
END:DAYLIGHT
BEGIN:STANDARD
TZOFFSETFROM:+0100
TZOFFSETTO:+0000
TZNAME:GMT
DTSTART:20251026T010000
END:STANDARD
BEGIN:DAYLIGHT
TZOFFSETFROM:+0000
TZOFFSETTO:+0100
TZNAME:BST
DTSTART:20260329T010000
END:DAYLIGHT
BEGIN:STANDARD
TZOFFSETFROM:+0100
TZOFFSETTO:+0000
TZNAME:GMT
DTSTART:20261025T010000
END:STANDARD
END:VTIMEZONE
BEGIN:VEVENT
DTSTART;TZID=Europe/London:20251112T073000
DTEND;TZID=Europe/London:20251112T093000
DTSTAMP:20260424T185643
CREATED:20251017T082237Z
LAST-MODIFIED:20251017T083315Z
UID:14741-1762932600-1762939800@sbf.biz
SUMMARY:Hogs Back Breakfast
DESCRIPTION:You are invited to join us at this regular networking event in the FSB diary. \n\n\n\nThis is a chance to meet other business owners and grow your network. \n\n\n\nA continental breakfast of tea\, coffee\, pastries\, fresh fruit\, granola + Greek yogurt will be served in the room and included within the ticket price. For any guests who would like to ‘upgrade’ and have a full cooked breakfast this is an additional charge of £5 per person which can be paid directly to the breakfast team on arrival with either cash or card. \n\n\n\nAgenda: \n\n\n\n7:30am – Breakfast will be served \n\n\n\n8:10am – Keynote Speaker Presentation \n\n\n\n8:40am – Round the room – introduce your business \n\n\n\n9:00am – Open networking with fresh tea/coffee We look forward to welcoming you and hearing about your business\, your aspirations\, and how we can help you. \n\n\n\n• continental breakfast\, tea and coffee will be provided. \n\n\n\nAmple on-site free parking. This is a ticketed event so booking in advance is required. \n\n\n\nIf you require any assistance please contact Caroline Ashman
URL:https://sbf.biz/event/hogs-back-breakfast/
LOCATION:Hogs Back Hotel & Spa\, GU10 1EX
CATEGORIES:Federation Small Businesses
ATTACH;FMTTYPE=image/jpeg:https://sbf.biz/wp-content/uploads/2025/09/reigate-networking-scaled.jpg
END:VEVENT
END:VCALENDAR