BEGIN:VCALENDAR
VERSION:2.0
PRODID:-//Spelthorne Business Forum - ECPv6.15.16//NONSGML v1.0//EN
CALSCALE:GREGORIAN
METHOD:PUBLISH
X-WR-CALNAME:Spelthorne Business Forum
X-ORIGINAL-URL:https://sbf.biz
X-WR-CALDESC:Events for Spelthorne Business Forum
REFRESH-INTERVAL;VALUE=DURATION:PT1H
X-Robots-Tag:noindex
X-PUBLISHED-TTL:PT1H
BEGIN:VTIMEZONE
TZID:Europe/London
BEGIN:DAYLIGHT
TZOFFSETFROM:+0000
TZOFFSETTO:+0100
TZNAME:BST
DTSTART:20240331T010000
END:DAYLIGHT
BEGIN:STANDARD
TZOFFSETFROM:+0100
TZOFFSETTO:+0000
TZNAME:GMT
DTSTART:20241027T010000
END:STANDARD
BEGIN:DAYLIGHT
TZOFFSETFROM:+0000
TZOFFSETTO:+0100
TZNAME:BST
DTSTART:20250330T010000
END:DAYLIGHT
BEGIN:STANDARD
TZOFFSETFROM:+0100
TZOFFSETTO:+0000
TZNAME:GMT
DTSTART:20251026T010000
END:STANDARD
BEGIN:DAYLIGHT
TZOFFSETFROM:+0000
TZOFFSETTO:+0100
TZNAME:BST
DTSTART:20260329T010000
END:DAYLIGHT
BEGIN:STANDARD
TZOFFSETFROM:+0100
TZOFFSETTO:+0000
TZNAME:GMT
DTSTART:20261025T010000
END:STANDARD
END:VTIMEZONE
BEGIN:VEVENT
DTSTART;TZID=Europe/London:20250903T100000
DTEND;TZID=Europe/London:20250903T150000
DTSTAMP:20260425T132919
CREATED:20250829T115653Z
LAST-MODIFIED:20250829T115814Z
UID:14437-1756893600-1756911600@sbf.biz
SUMMARY:Google Digital Garage: Crawley
DESCRIPTION:Google is coming to Crawley! Google Digital Garage trainers will be available to help you grow your business online and find new customers.  Join in person for free workshops and mentoring sessions. \n\n\n\n \n\n\n\n\n\n\n\n \n\n\n\nWhat to expect on the day\n\n\n\nEnterprise Nation and Google Digital Garage will be running varied sessions all day\, alongside interactive networking opportunities. \n\n\n\nYou’ll leave the event with a clear understanding of AI\, new digital skills and knowledge of how to implement these methods to help your business thrive. \n\n\n\nJoin for an exciting event where you’ll learn how AI can enhance your marketing and productivity\, helping you work smarter\, save time and achieve better results! \n\n\n\nFree lunch will be available. The event is taking place at The Charis Centre\, W Green Dr\, Crawley RH11 7EL \n\n\n\nPlease arrive at 10.00 am to check in before the day begins at 10.15 am. Enjoy complimentary coffee and tea while you settle in. If you have any questions\, please get in touch at events@enterprisenation.com.
URL:https://sbf.biz/event/google-digital-garage-crawley/
CATEGORIES:Lunch and learn,Workshops - Non SBF
ATTACH;FMTTYPE=image/jpeg:https://sbf.biz/wp-content/uploads/2025/08/google-digital.jpg
END:VEVENT
BEGIN:VEVENT
DTSTART;TZID=Europe/London:20250923T120000
DTEND;TZID=Europe/London:20250923T130000
DTSTAMP:20260425T132919
CREATED:20250919T102616Z
LAST-MODIFIED:20250919T102619Z
UID:14547-1758628800-1758632400@sbf.biz
SUMMARY:Seeking Investment: A guide for SMEs
DESCRIPTION:Join us for the Seeking Investment: A guide for SMEs Event  \n\n\n\nFor SMEs exploring angel investment as a funding route\, how to prepare and where to find support.Are you an entrepreneur looking for investment to grow your business? Or\, are you exploring how to become an angel investor to support the next generation of innovators? \n\n\n\nJoin the British Business Bank and UKBAA this Autumn for a complimentary three part webinar series focused on angel investing in the Midlands. \n\n\n\nWhether you’re seeking funding or thinking about investing\, these sessions will provide insights\, practical advice and real world stories to help you take your next steps with confidence.
URL:https://sbf.biz/event/seeking-investment-a-guide-for-smes/
CATEGORIES:Business Surrey,Investment and funding,Workshops - Non SBF
ATTACH;FMTTYPE=image/jpeg:https://sbf.biz/wp-content/uploads/2025/09/British-business-bank.jpg
END:VEVENT
BEGIN:VEVENT
DTSTART;TZID=Europe/London:20250925T120000
DTEND;TZID=Europe/London:20250925T140000
DTSTAMP:20260425T132919
CREATED:20250919T103411Z
LAST-MODIFIED:20250919T103413Z
UID:14549-1758801600-1758808800@sbf.biz
SUMMARY:How to successfully apply for finance
DESCRIPTION:Come along to a Finance Masterclass – hear Dave Farmer from Lime Finance Solutions talk you through applying for Finance.Learn how to successfully apply for the finance that your business needs. Hear practical tips on: \n\n\n\n\nCommon reasons businesses get declined finance and how to avoid them\n\n\n\nUnderstanding your credit report properly\n\n\n\nHow to apply differently for grants versus borrowing\n\n\n\n\nDon’t miss out on this opportunity to gain valuable insights and improve your financial literacy. See you there!
URL:https://sbf.biz/event/how-to-successfully-apply-for-finance/
CATEGORIES:Investment and funding,Workshops - Non SBF
ATTACH;FMTTYPE=image/jpeg:https://sbf.biz/wp-content/uploads/2025/09/apply-for-finance.jpg
END:VEVENT
END:VCALENDAR