BEGIN:VCALENDAR
VERSION:2.0
PRODID:-//Spelthorne Business Forum - ECPv6.15.16//NONSGML v1.0//EN
CALSCALE:GREGORIAN
METHOD:PUBLISH
X-ORIGINAL-URL:https://sbf.biz
X-WR-CALDESC:Events for Spelthorne Business Forum
REFRESH-INTERVAL;VALUE=DURATION:PT1H
X-Robots-Tag:noindex
X-PUBLISHED-TTL:PT1H
BEGIN:VTIMEZONE
TZID:Europe/London
BEGIN:DAYLIGHT
TZOFFSETFROM:+0000
TZOFFSETTO:+0100
TZNAME:BST
DTSTART:20240331T010000
END:DAYLIGHT
BEGIN:STANDARD
TZOFFSETFROM:+0100
TZOFFSETTO:+0000
TZNAME:GMT
DTSTART:20241027T010000
END:STANDARD
BEGIN:DAYLIGHT
TZOFFSETFROM:+0000
TZOFFSETTO:+0100
TZNAME:BST
DTSTART:20250330T010000
END:DAYLIGHT
BEGIN:STANDARD
TZOFFSETFROM:+0100
TZOFFSETTO:+0000
TZNAME:GMT
DTSTART:20251026T010000
END:STANDARD
BEGIN:DAYLIGHT
TZOFFSETFROM:+0000
TZOFFSETTO:+0100
TZNAME:BST
DTSTART:20260329T010000
END:DAYLIGHT
BEGIN:STANDARD
TZOFFSETFROM:+0100
TZOFFSETTO:+0000
TZNAME:GMT
DTSTART:20261025T010000
END:STANDARD
END:VTIMEZONE
BEGIN:VEVENT
DTSTART;TZID=Europe/London:20251021T093000
DTEND;TZID=Europe/London:20251021T110000
DTSTAMP:20260423T141413
CREATED:20251017T091051Z
LAST-MODIFIED:20251017T091645Z
UID:14764-1761039000-1761044400@sbf.biz
SUMMARY:Guildford Networking at Matrix Trust
DESCRIPTION:Join FSB Surrey for the second event in a brand-new series of Networking Breakfast Events\, hosted in partnership with The Matrix Trust – a dynamic local charity making a profound impact on the lives of vulnerable young people across Guildford Borough. \n\n\n\nThis is more than just a networking event — it’s a chance to connect with like-minded professionals\, grow your business network\, and hear from inspirational speakers in a truly meaningful setting. \n\n\n\nWhy Attend? \n\n\n\n\nConnect with local business owners and entrepreneurs\n\n\n\nDiscover how The Matrix Trust is changing lives through youth support\, wellbeing and mental health services\n\n\n\nEngage with FSB updates\, support services\, and campaigns helping small businesses thrive\n\n\n\nSupport a cause that gives back to your local community\n\n\n\n\nWith nearly 25 years of impact\, The Matrix Trust works tirelessly with schools\, churches\, local organisations\, and families — offering real change and support to thousands of young people every year. \n\n\n\nLet’s build a stronger business community and a brighter future for young people – together. \n\n\n\nBe inspired. Make connections. Make a difference. \n\n\n\nSpeaker \n\n\n\n\n\n\n\nAnders Rehnberg \n\n\n\nAnders Rehnberg\, M.Sc. in Engineering Physics\, is an accomplished software developer\, product manager\, international key account manager\, sales director\, and CEO with a strong focus on global sales and business management. Over the past 30 years\, Anders has delivered consultancy\, seminars\, and workshops across more than 70 industries in over 60 countries\, helping organisations sharpen their sales strategies and achieve sustainable growth. \n\n\n\nAt this event\, Anders will lead a dynamic mini-workshop addressing one of the most common challenges in business – how to find your customers. He will also introduce his powerful concept\, Value-Based Business (VBB)\, designed to help companies create real value that drives long-term success. \n\n\n\nPlease note there will be a £5 contribution to Tea / Coffee payable at the venue – this goes directly to the charity to support their activities. \n\n\n\nThere will also be a raffle for the charity to be held on the morning of the event. If you have any raffle prizes to donate\, please bring them along with you.
URL:https://sbf.biz/event/guildford-networking-at-matrix-trust/
LOCATION:The Matrix Trust\, Eastgate Gardens\, Guildford\, GU1 4AZ
CATEGORIES:Federation Small Businesses,Networking
ATTACH;FMTTYPE=image/jpeg:https://sbf.biz/wp-content/uploads/2025/10/Guildford-networking-scaled.jpg
END:VEVENT
BEGIN:VEVENT
DTSTART;TZID=Europe/London:20251022T090000
DTEND;TZID=Europe/London:20251022T110000
DTSTAMP:20260423T141413
CREATED:20250905T124814Z
LAST-MODIFIED:20251008T073113Z
UID:14474-1761123600-1761130800@sbf.biz
SUMMARY:SBF: Breakfast networking event
DESCRIPTION:Join us for the Spelthorne business forum networking breakfast on Wednesday\, 22nd October 2025\, from 9:00 -11:00 am at Hazelwood Community Centre\, Sunbury-On-Thames. \n\n\n\nThis is your chance to connect with local business owners\, entrepreneurs\, and community leaders in a relaxed and friendly setting all while enjoying a delicious breakfast. \n\n\n\nFor just £7.50\, you’ll enjoy fresh breakfast rolls\, refreshments\, and great conversations that could lead to new partnerships\, ideas\, and opportunities for your business. \n\n\n\nWhether you’re looking to grow your network\, collaborate with others\, or simply start your morning with inspiring conversations\, this event is the perfect place to be. \n\n\n\n*Please add your email address to the customer note when making payment\, so we can contact you with further information on the event.
URL:https://sbf.biz/event/breakfast-networking-save-the-date/
LOCATION:The Hazelwood Centre\, Hazelwood Drive\, Sunbury\, Surrey\, TW16 6QU
CATEGORIES:Networking - SBF
ATTACH;FMTTYPE=image/png:https://sbf.biz/wp-content/uploads/2025/09/Riverboat-breakfast-meeting-2.png
END:VEVENT
END:VCALENDAR