BEGIN:VCALENDAR
VERSION:2.0
PRODID:-//Spelthorne Business Forum - ECPv6.15.16//NONSGML v1.0//EN
CALSCALE:GREGORIAN
METHOD:PUBLISH
X-WR-CALNAME:Spelthorne Business Forum
X-ORIGINAL-URL:https://sbf.biz
X-WR-CALDESC:Events for Spelthorne Business Forum
REFRESH-INTERVAL;VALUE=DURATION:PT1H
X-Robots-Tag:noindex
X-PUBLISHED-TTL:PT1H
BEGIN:VTIMEZONE
TZID:Europe/London
BEGIN:DAYLIGHT
TZOFFSETFROM:+0000
TZOFFSETTO:+0100
TZNAME:BST
DTSTART:20250330T010000
END:DAYLIGHT
BEGIN:STANDARD
TZOFFSETFROM:+0100
TZOFFSETTO:+0000
TZNAME:GMT
DTSTART:20251026T010000
END:STANDARD
BEGIN:DAYLIGHT
TZOFFSETFROM:+0000
TZOFFSETTO:+0100
TZNAME:BST
DTSTART:20260329T010000
END:DAYLIGHT
BEGIN:STANDARD
TZOFFSETFROM:+0100
TZOFFSETTO:+0000
TZNAME:GMT
DTSTART:20261025T010000
END:STANDARD
BEGIN:DAYLIGHT
TZOFFSETFROM:+0000
TZOFFSETTO:+0100
TZNAME:BST
DTSTART:20270328T010000
END:DAYLIGHT
BEGIN:STANDARD
TZOFFSETFROM:+0100
TZOFFSETTO:+0000
TZNAME:GMT
DTSTART:20271031T010000
END:STANDARD
END:VTIMEZONE
BEGIN:VEVENT
DTSTART;TZID=Europe/London:20260218T130000
DTEND;TZID=Europe/London:20260218T143000
DTSTAMP:20260421T093706
CREATED:20260129T102827Z
LAST-MODIFIED:20260129T102831Z
UID:15695-1771419600-1771425000@sbf.biz
SUMMARY:Drive Leads And Smash Your Income Goals
DESCRIPTION:Learn how to generate consistent leads and remove the stress of sales \n\n\n\nA Practical Growth Session for Small Businesses\n\n\n\nHitting income goals comes down to clarity\, focus\, and consistent action. This session shows you how to turn income targets into a realistic lead plan and focus on the customers and channels that actually convert. \n\n\n\nEverything is broken down into practical steps you can apply immediately. \n\n\n\nWhat You’ll Work On\n\n\n\n\nUnderstanding the right targets\n\n\n\nDefining which customers will support sustainable income growth\n\n\n\nTargeting the high probability sales channels\n\n\n\nImplementing the number 1 sales channel and fastest route to cash\n\n\n\nHow to use SEO to support long-term lead generation\n\n\n\nHow to use events to drive interest\n\n\n\nWhen to use paid advertising\n\n\n\nReviewing performance and adjusting quickly\n\n\n\nBuilding a simple weekly habit for lead generation and growth\n\n\n\n\nWhat Makes This Different\n\n\n\nThis session focuses on the numbers and the behaviour behind them\, not guesswork or scattered tactics. \n\n\n\nYou will learn how to prioritise the activities that drive revenue\, improve lead quality\, and build a growth approach you can sustain. \n\n\n\nWho This Is For\n\n\n\nFor business owners and founders who want clearer targets\, better-quality leads\, and a more predictable path to hitting their income goals. \n\n\n\nWhat You’ll Leave With\n\n\n\nYou will leave with a clear income and lead plan\, a sharper understanding of who to target and where to find them\, and a simple structure for reviewing progress and staying focused week by week.
URL:https://sbf.biz/event/drive-leads-and-smash-your-income-goals/
LOCATION:Spelthorne Business Hub\, 33 Hanworth Road\, Sunbury on Thames\, TW165DA
CATEGORIES:Business Surrey,Spelthorne borough council,Spelthorne Business hub
ATTACH;FMTTYPE=image/jpeg:https://sbf.biz/wp-content/uploads/2026/01/https___cdn.evbuc_.com_images_1174783196_26906557647_1_original.jpg
END:VEVENT
BEGIN:VEVENT
DTSTART;TZID=Europe/London:20260225T090000
DTEND;TZID=Europe/London:20260225T110000
DTSTAMP:20260421T093706
CREATED:20260109T111304Z
LAST-MODIFIED:20260213T152900Z
UID:15581-1772010000-1772017200@sbf.biz
SUMMARY:SBF Breakfast Networking Meeting Ashford
DESCRIPTION:The SBF Bulldog Breakfast is Back — By Popular Demand!\n\n\n\nGood news — one of our most popular historic SBF events is back!You’re invited to the Bulldog Breakfast Networking Meeting at the newly refurbished Harvester Bulldog\, Ashford. \n\n\n\nIf you’re looking to grow your business\, raise your profile\, and make genuine connections (without awkward sales pitches)\, this is the networking event for you. \n\n\n\nJoin a friendly room of motivated local professionals for relaxed\, meaningful conversations over a proper breakfast. It’s all about real people\, real ideas\, and real opportunities — the kind that often start with a coffee and turn into lasting business relationships. \n\n\n\nWhy attend?\n\n\n\n\nMeet potential clients\, collaborators and referrers\n\n\n\nStrengthen your local business connections\n\n\n\nShare ideas\, insights and opportunities in a welcoming environment\n\n\n\nStart your day energised\, informed and connected\n\n\n\n\n\n\n\n\n📍 Venue: Harvester Bulldog\, Ashford (newly refurbished)📅 Date: Wednesday 25 February 2026⏰ Time: 9:00 AM (Europe/London) \n\n\n\nBreakfast Details\n\n\n\nEnjoy a Breakfast Bap with unlimited tea and coffee from the Harvester menu. \n\n\n\n💷 £12 per person(Includes £10 for breakfast plus Eventbrite booking fees and costs) \n\n\n\nHarvester Menu
URL:https://sbf.biz/event/sbf-breakfast-networking-meeting-2/
LOCATION:Bulldog Harvester\, 556 London Road\, Ashford\, TW15 3AF
CATEGORIES:All Events,Networking - SBF
ATTACH;FMTTYPE=image/jpeg:https://sbf.biz/wp-content/uploads/2026/01/Feb-Bulldog-Breakfast-banner-.jpg
END:VEVENT
END:VCALENDAR