BEGIN:VCALENDAR
VERSION:2.0
PRODID:-//Spelthorne Business Forum - ECPv6.15.16//NONSGML v1.0//EN
CALSCALE:GREGORIAN
METHOD:PUBLISH
X-ORIGINAL-URL:https://sbf.biz
X-WR-CALDESC:Events for Spelthorne Business Forum
REFRESH-INTERVAL;VALUE=DURATION:PT1H
X-Robots-Tag:noindex
X-PUBLISHED-TTL:PT1H
BEGIN:VTIMEZONE
TZID:Europe/London
BEGIN:DAYLIGHT
TZOFFSETFROM:+0000
TZOFFSETTO:+0100
TZNAME:BST
DTSTART:20250330T010000
END:DAYLIGHT
BEGIN:STANDARD
TZOFFSETFROM:+0100
TZOFFSETTO:+0000
TZNAME:GMT
DTSTART:20251026T010000
END:STANDARD
BEGIN:DAYLIGHT
TZOFFSETFROM:+0000
TZOFFSETTO:+0100
TZNAME:BST
DTSTART:20260329T010000
END:DAYLIGHT
BEGIN:STANDARD
TZOFFSETFROM:+0100
TZOFFSETTO:+0000
TZNAME:GMT
DTSTART:20261025T010000
END:STANDARD
BEGIN:DAYLIGHT
TZOFFSETFROM:+0000
TZOFFSETTO:+0100
TZNAME:BST
DTSTART:20270328T010000
END:DAYLIGHT
BEGIN:STANDARD
TZOFFSETFROM:+0100
TZOFFSETTO:+0000
TZNAME:GMT
DTSTART:20271031T010000
END:STANDARD
END:VTIMEZONE
BEGIN:VEVENT
DTSTART;TZID=Europe/London:20260306T110000
DTEND;TZID=Europe/London:20260306T140000
DTSTAMP:20260423T090409
CREATED:20260129T112543Z
LAST-MODIFIED:20260129T113342Z
UID:15714-1772794800-1772805600@sbf.biz
SUMMARY:Business Women in Surrey: International Women’s Day Lunch 2026
DESCRIPTION:Balancing the Scales: The Power of Giving to Gain. Fairness creates opportunity. Generosity drives success. \n\n\n\nMember Rate – £60.00 +VATNon Member Rate – £80.00 +VAT\n\n\n\nJoin Surrey Chambers of Commerce for our International Women’s Day 2026 celebration\, a dynamic event that explores how fairness and generosity can transform business\, leadership\, and community. This year’s theme\, Balancing the Scales: The Power of Giving to Gain\, invites us to rethink success: when we give time\, knowledge\, opportunities\, we create a ripple effect that benefits everyone. \n\n\n\nIWD 2026 will be hosted at the stunning Foxhills Club & Resort\,  as we come together for a powerful afternoon of connection\, inspiration\, and celebration. Following a sell-out event in 2025\, we are delighted to bring together professionals from across Surrey and beyond to mark this globally significant day. \n\n\n\nFind out how to register here. https://my.surrey-chambers.co.uk/calendar_detail.html?eid=6EE220A6-8E76-4A1C-89C8-4ACC63ED7BC8 \n\n\n\nPrevious speakers have included pioneering women from business\, education\, accessibility\, and social impact — and 2026 promises to deliver another exceptional line-up. \n\n\n\nProudly Sponsored by Surrey Business School. As part of the University of Surrey\, Surrey Business School is committed to shaping responsible leaders and innovative thinkers through high-quality education\, research\, and enterprise. With a strong focus on entrepreneurship\, sustainability\, and inclusive leadership\, Surrey Business School empowers individuals and businesses to thrive in a rapidly changing world\, values that align closely with the spirit of International Women’s Day! \n\n\n\nWhat to Expect\n\n\n\n\nA warm welcome and celebratory drink on arrival\n\n\n\nA two-course sit-down lunch in beautiful surroundings\n\n\n\nOptional glass of wine\n\n\n\nInspirational talks and panel discussions (speaker details coming soon)\n\n\n\nTime to connect\, network\, and reflect with fellow attendees\n\n\n\n\nWhether you’re looking to be inspired\, build new connections\, or celebrate the achievements of women worldwide\, this event is designed to leave you energised\, empowered\, and ready to lead change. \n\n\n\nWho Should Attend\n\n\n\nThis event is open to women and men from all professional backgrounds who want to: \n\n\n\n\nCelebrate and support gender equality in the workplace and beyond\n\n\n\nHear from inspiring voices across industries\n\n\n\nExpand their network in a welcoming\, professional environment\n\n\n\nMark International Women’s Day with meaning\, purpose\, and connection
URL:https://sbf.biz/event/business-women-in-surrey-international-womens-day-lunch-2026/
LOCATION:Foxhills Club & Resort\, Stonehill Road\, Ottershaw\, Surrey\, KT16 0EL
CATEGORIES:Business Surrey,Networking,Surrey Business event,Surrey Chamber of Commerce
ATTACH;FMTTYPE=image/webp:https://sbf.biz/wp-content/uploads/2026/01/IWD.png.webp
END:VEVENT
BEGIN:VEVENT
DTSTART;TZID=Europe/London:20260326T180000
DTEND;TZID=Europe/London:20260326T193000
DTSTAMP:20260423T090409
CREATED:20260305T095007Z
LAST-MODIFIED:20260323T114005Z
UID:15804-1774548000-1774553400@sbf.biz
SUMMARY:Spelthorne Business Networking in partnership with SBF
DESCRIPTION:Come join us at Jaguar Land Rover for a relaxed evening of business banter\, good company\, and vibes.\n\n\n\nThis event is in partnership with Spelthorne Business Forum! \n\n\n\nGrab a drink\, pull up a seat\, and chat with fellow local entrepreneurs who are all about sharing ideas\, sparking opportunities\, and supporting success. No pressure\, no pitches\, just great conversations and even better company. \n\n\n\nWho is it for?\n\n\n\nResidents and business owners in the Spelthorne borough who want to connect with like-minded people to grow their network. \n\n\n\nWhat’s in it for you?\n\n\n\n\nFriendly informal and feel welcome\n\n\n\nOpportunity to introduce yourself and your business\n\n\n\nConnected into the local community of business owners to potentially collaborate with\n\n\n\nBuilding strong local partnerships to boost the local economy\n\n\n\nHave fun and relax at the end of the working day.\n\n\n\n\nWhy this network?\n\n\n\n\nFriendly members focus on giving\n\n\n\nBroad selection of people with varying business sizes\n\n\n\nAccess to partners\n\n\n\nFree business support\n\n\n\nSpelthorne Council backed initiative\n\n\n\nExceptional quality of support\n\n\n\n\nAs the ancient proverb goes “A journey of a 1000 miles begins with a single step”. Together let’s stay positive\, work hard\, and make it happen. Give your business the boost that it needs and click to register. \n\n\n\nSIGN UP NOW\n\n\n\nWhat is this programme? \n\n\n\nThis event is part of the Spelthorne Borough Council’s Business Growth Service. It is aimed at anyone inside Spelthorne who is thinking of starting a business\, start ups or existing SME’s who want to do more business locally. \n\n\n\nFind out more at https://www.mygrowthpod.com/spelthorne \n\n\n\nTogether we can make a significant and meaningful difference in our community.
URL:https://sbf.biz/event/spelthorne-business-networking-in-partnership-with-sbf/
LOCATION:Synter Jaguar Landrover\, 42 Hanworth Road\, Sunbury on Thames\, TW16 5LN
ATTACH;FMTTYPE=image/webp:https://sbf.biz/wp-content/uploads/2026/03/JLR-Evening-Event.webp
END:VEVENT
END:VCALENDAR